BEGIN:VCALENDAR
VERSION:2.0
PRODID:-// - ECPv6.15.20//NONSGML v1.0//EN
CALSCALE:GREGORIAN
METHOD:PUBLISH
X-ORIGINAL-URL:https://www.getessentialhealing.com
X-WR-CALDESC:Events for 
REFRESH-INTERVAL;VALUE=DURATION:PT1H
X-Robots-Tag:noindex
X-PUBLISHED-TTL:PT1H
BEGIN:VTIMEZONE
TZID:America/New_York
BEGIN:DAYLIGHT
TZOFFSETFROM:-0500
TZOFFSETTO:-0400
TZNAME:EDT
DTSTART:20240310T070000
END:DAYLIGHT
BEGIN:STANDARD
TZOFFSETFROM:-0400
TZOFFSETTO:-0500
TZNAME:EST
DTSTART:20241103T060000
END:STANDARD
BEGIN:DAYLIGHT
TZOFFSETFROM:-0500
TZOFFSETTO:-0400
TZNAME:EDT
DTSTART:20250309T070000
END:DAYLIGHT
BEGIN:STANDARD
TZOFFSETFROM:-0400
TZOFFSETTO:-0500
TZNAME:EST
DTSTART:20251102T060000
END:STANDARD
BEGIN:DAYLIGHT
TZOFFSETFROM:-0500
TZOFFSETTO:-0400
TZNAME:EDT
DTSTART:20260308T070000
END:DAYLIGHT
BEGIN:STANDARD
TZOFFSETFROM:-0400
TZOFFSETTO:-0500
TZNAME:EST
DTSTART:20261101T060000
END:STANDARD
END:VTIMEZONE
BEGIN:VEVENT
DTSTART;TZID=America/New_York:20251107T190000
DTEND;TZID=America/New_York:20251128T200000
DTSTAMP:20260419T122600
CREATED:20221212T200222Z
LAST-MODIFIED:20251104T173437Z
UID:2780-1762542000-1764360000@www.getessentialhealing.com
SUMMARY:Chakra Sound Bath Series
DESCRIPTION:4 Sundays starting November 7th \nhz healing is a purposeful blend of guided meditation & sound healing using a set of crystal singing bowls. the seven bowls ring at the seven notes of the musical scale which also correspond to the seven chakras of the body. in this 4 week series we will start with simple chakra-based stretches then actively guide our minds to a point of introspection and understanding through meditation before passively exploring the healing frequencies of the seven bowls while resting lying down. this practice of balancing of our body’s energy one chakra at a time leads to an alignment of body\, mind\, and superconsciousness that you can incorporate into your life off your mat. \nweek 1: 396 hz – 420 hz\nroot & sacral chakras healing of adrenal gland\, reproductive organs\, blood\, spleen & kidneys. liberating guilt & facilitating change. \nweek 2: 528 hz\nsolar plexus chakra healing of cells\, dna\, digestion & liver. transformation & miracles. \nweek 3: 639 hz\nheart chakra & throat chakra healing of thymus gland\, heart\, lungs\, thyroid gland\, neck\, & insomnia. awakening intuition & connecting relationships. \nweek 4: 852 hz -963 hz\nthird eye & crown chakra healing of pituitary & pineal glands\, nervous system\, lymphatic system\, emotions & aura. spiritual consciousness & enlightenment.
URL:https://www.getessentialhealing.com/event/hz-healing-chakra-sound-bath-series/
LOCATION:Zen Yoga Clintonville\, 3242 n high st\, Columbus\, oh\, 43202
ATTACH;FMTTYPE=image/jpeg:https://www.getessentialhealing.com/wp-content/uploads/2022/12/318570270_5413149752146639_6866231480281564677_n.jpg
END:VEVENT
BEGIN:VEVENT
DTSTART;TZID=America/New_York:20251110T180000
DTEND;TZID=America/New_York:20251110T190000
DTSTAMP:20260419T122600
CREATED:20250202T200229Z
LAST-MODIFIED:20251104T172355Z
UID:3084-1762797600-1762801200@www.getessentialhealing.com
SUMMARY:Crystal Pyramid Hz Healing Sound Bath
DESCRIPTION:This sound bath will bring together the Hz Healing practices of playing a full set of crystal singing bowls with crystal pyramids for a unique practice of meditation and deep rest. Together in the Tranquility Salt Cave we will relax in zero gravity chairs or on the heated salt floor and breathe halotherapy salt-filled air while the music of Hz Healing instruments played by Colleen Gallick will surround you. This practice will be focused on our root\, heart & crown chakras for a grounding\, settling meditation before exploring held emotions in our hearts and thoughts in our minds for all-encompassing healing.
URL:https://www.getessentialhealing.com/event/crystal-pyramid-hz-healing-sound-bath/
LOCATION:Tranquility Salt Cave\, 30 Dillmont Drive\, Columbus\, OH\, 43235\, United States
ATTACH;FMTTYPE=image/jpeg:https://www.getessentialhealing.com/wp-content/uploads/2025/02/382455281_10168038618665612_6624324643365440645_n.jpg
END:VEVENT
BEGIN:VEVENT
DTSTART;TZID=America/New_York:20251124T180000
DTEND;TZID=America/New_York:20251124T190000
DTSTAMP:20260419T122600
CREATED:20241002T100009Z
LAST-MODIFIED:20251104T172657Z
UID:2929-1764007200-1764010800@www.getessentialhealing.com
SUMMARY:Women's Low Frequency Hz Healing Sound Bath
DESCRIPTION:In this Low Frequency Sound Bath we are adding to the set of seven crystal singing bowls with a 22in crystal bowl that rings a frequency octaves lower that you will feel just as much as you will hear it. This unique practice of deep meditation will be focused on our sacral chakras and the release of stresses from our emotions and our relationships. The frequencies played\, along with the halotherapy of the Tranquility Salt Cave\, will offer you deep rest and healing from the inside out.\nPlease bring a pair of clean white socks
URL:https://www.getessentialhealing.com/event/low-frequency-hz-healing-sound-bath/
LOCATION:Tranquility Salt Cave\, 30 Dillmont Drive\, Columbus\, OH\, 43235\, United States
ATTACH;FMTTYPE=image/jpeg:https://www.getessentialhealing.com/wp-content/uploads/2024/01/428386906_10168454256165612_9030760111880668872_n.jpg
END:VEVENT
END:VCALENDAR