BEGIN:VCALENDAR
VERSION:2.0
PRODID:-// - ECPv6.15.20//NONSGML v1.0//EN
CALSCALE:GREGORIAN
METHOD:PUBLISH
X-ORIGINAL-URL:https://www.getessentialhealing.com
X-WR-CALDESC:Events for 
REFRESH-INTERVAL;VALUE=DURATION:PT1H
X-Robots-Tag:noindex
X-PUBLISHED-TTL:PT1H
BEGIN:VTIMEZONE
TZID:America/New_York
BEGIN:DAYLIGHT
TZOFFSETFROM:-0500
TZOFFSETTO:-0400
TZNAME:EDT
DTSTART:20250309T070000
END:DAYLIGHT
BEGIN:STANDARD
TZOFFSETFROM:-0400
TZOFFSETTO:-0500
TZNAME:EST
DTSTART:20251102T060000
END:STANDARD
BEGIN:DAYLIGHT
TZOFFSETFROM:-0500
TZOFFSETTO:-0400
TZNAME:EDT
DTSTART:20260308T070000
END:DAYLIGHT
BEGIN:STANDARD
TZOFFSETFROM:-0400
TZOFFSETTO:-0500
TZNAME:EST
DTSTART:20261101T060000
END:STANDARD
BEGIN:DAYLIGHT
TZOFFSETFROM:-0500
TZOFFSETTO:-0400
TZNAME:EDT
DTSTART:20270314T070000
END:DAYLIGHT
BEGIN:STANDARD
TZOFFSETFROM:-0400
TZOFFSETTO:-0500
TZNAME:EST
DTSTART:20271107T060000
END:STANDARD
END:VTIMEZONE
BEGIN:VEVENT
DTSTART;TZID=America/New_York:20260123T180000
DTEND;TZID=America/New_York:20260123T190000
DTSTAMP:20260419T184237
CREATED:20230106T192707Z
LAST-MODIFIED:20260109T163948Z
UID:2787-1769191200-1769194800@www.getessentialhealing.com
SUMMARY:Ocean Drum Sound Bath Meditation
DESCRIPTION:Water can heal as it hydrates and cleanses and gives us gentle support to float. Together in the Tranquility Salt Cave Colleen Gallick will lead guided meditation & visualization to explore these healing properties of water. While your body relaxes & your mind begins to rest we will fill the cave with sounds of an ocean drum sound bath to bring the magic of waves to you!
URL:https://www.getessentialhealing.com/event/ocean-drum-sound-bath-meditation/
LOCATION:Tranquility Salt Cave\, 30 Dillmont Drive\, Columbus\, OH\, 43235\, United States
ATTACH;FMTTYPE=image/jpeg:https://www.getessentialhealing.com/wp-content/uploads/2022/10/296041294_10166456965570612_5974446875209465093_n.jpg
END:VEVENT
BEGIN:VEVENT
DTSTART;TZID=America/New_York:20260124T110000
DTEND;TZID=America/New_York:20260124T120000
DTSTAMP:20260419T184237
CREATED:20240106T211923Z
LAST-MODIFIED:20260110T151157Z
UID:2939-1769252400-1769256000@www.getessentialhealing.com
SUMMARY:Sound Bath in the Centre Wellness Salt Cave
DESCRIPTION:
URL:https://www.getessentialhealing.com/event/sound-bath-in-the-centre-wellness-salt-cave/
LOCATION:The Centre Wellness\, 8510 Warner Rd Suite 300\, Plain City\, oh\, 43064
ATTACH;FMTTYPE=image/jpeg:https://www.getessentialhealing.com/wp-content/uploads/2024/01/470752348_10170295185790612_4494436744166561319_n.jpg
END:VEVENT
BEGIN:VEVENT
DTSTART;TZID=America/New_York:20260125T174500
DTEND;TZID=America/New_York:20260215T184500
DTSTAMP:20260419T184237
CREATED:20260109T164746Z
LAST-MODIFIED:20260109T165448Z
UID:3156-1769363100-1771181100@www.getessentialhealing.com
SUMMARY:Intro to Mindfulness Series
DESCRIPTION:“Mindfulness” means something a little different to everyone & this 4 week series led by Colleen Gallick is to help figure out what it means to you. As a group we will explore different breath work\, meditations & intentions to experience time spent with yourself in news ways. At the end of the series everyone will have “mindfulness tools” to take with you and incorporate into your life on & off your yoga mat.\nThis series is for those who are new to\, but curious about\, meditation as well as those who have a meditation practice & want to add something new to it. Bring a journal & an open mind! \nWeek 1: Meditation through the senses\nWeek 2: Meditation to withdraw from the senses\nWeek 3: Meditation to cultivate focus\nWeek 4: Meditation to expand consciousness
URL:https://www.getessentialhealing.com/event/intro-to-mindfulness-series/
LOCATION:Zen Yoga Clintonville\, 3242 n high st\, Columbus\, oh\, 43202
ATTACH;FMTTYPE=image/jpeg:https://www.getessentialhealing.com/wp-content/uploads/2020/06/26756443_10159785426585612_7848313592245792913_o.jpg
END:VEVENT
BEGIN:VEVENT
DTSTART;TZID=America/New_York:20260130T190000
DTEND;TZID=America/New_York:20260130T200000
DTSTAMP:20260419T184237
CREATED:20260109T165012Z
LAST-MODIFIED:20260109T165028Z
UID:3159-1769799600-1769803200@www.getessentialhealing.com
SUMMARY:Full Moon Sound Bath at Zen Yoga
DESCRIPTION:On the Full Moon we celebrate. We enjoy all that’s come from our efforts & choices and we appreciate where we are and what we have. This is the day of manifestation where we receive all we ask for so that we can live the best life we want. \nDuring this guided meditation & Hz Healing sound bath with Colleen we will take time to appreciate all that we have worked for this month & ask for anything else we need to feel full. You will leave rested\, content & ready for what’s next!
URL:https://www.getessentialhealing.com/event/full-moon-sound-bath-at-zen-yoga/
LOCATION:Zen Yoga Clintonville\, 3242 n high st\, Columbus\, oh\, 43202
ATTACH;FMTTYPE=image/jpeg:https://www.getessentialhealing.com/wp-content/uploads/2024/08/466673070_10169565445450612_5818790231620993963_n.jpg
END:VEVENT
BEGIN:VEVENT
DTSTART;TZID=America/New_York:20260131T170000
DTEND;TZID=America/New_York:20260131T180000
DTSTAMP:20260419T184237
CREATED:20250904T214341Z
LAST-MODIFIED:20260109T164046Z
UID:3131-1769878800-1769882400@www.getessentialhealing.com
SUMMARY:Women's Full Moon Circle & Sound Bath
DESCRIPTION:This time together as women will be spent focusing on the gifts and manifestations we can find in our lives under the full moon. During this guided meditation & Hz Healing sound bath with Colleen Gallick we will take time to meditation on any intention that was set two weeks ago with the new moon\, focus on the high energy of having more of that we need & ask for anything else we need to feel full. After an hour of sound healing with crystal singing bowls\, halotherapy in the salt cave\, and your unique focused meditation\, you will leave rested\, content & ready for what’s next! \nPlease bring clean white socks
URL:https://www.getessentialhealing.com/event/womens-full-moon-circle-sound-bath/
LOCATION:Tranquility Salt Cave\, 30 Dillmont Drive\, Columbus\, OH\, 43235\, United States
ATTACH;FMTTYPE=image/jpeg:https://www.getessentialhealing.com/wp-content/uploads/2024/10/462904165_1200335441155634_3096624087352770420_n.jpg
END:VEVENT
BEGIN:VEVENT
DTSTART;TZID=America/New_York:20260213T180000
DTEND;TZID=America/New_York:20260213T190000
DTSTAMP:20260419T184237
CREATED:20250206T002126Z
LAST-MODIFIED:20260109T164146Z
UID:3087-1771005600-1771009200@www.getessentialhealing.com
SUMMARY:Galentine's Day Reiki & Sound Bath
DESCRIPTION:Galentine’s Day is for celebrating the incredible women we know & love- including ourselves. Bring your best girl friend to the Tranquility Salt Cave for this evening of self-love & appreciate everything you do by offering yourself this time to relax. Together we will settle into the cave for a Hz Healing sound bath by Colleen Gallick while Melissa Dickens offers reiki to each woman. Included will be a halotherapy session of breathing in pure salt to cleanse and strengthen your immune system. Wine & refreshments are available & all you need to do is show up ready to rest!
URL:https://www.getessentialhealing.com/event/galentines-day-reiki-sound-bath/
LOCATION:Tranquility Salt Cave\, 30 Dillmont Drive\, Columbus\, OH\, 43235\, United States
ATTACH;FMTTYPE=image/jpeg:https://www.getessentialhealing.com/wp-content/uploads/2023/02/329376786_934054591099365_3850563792279268557_n.jpg
END:VEVENT
BEGIN:VEVENT
DTSTART;TZID=America/New_York:20260216T180000
DTEND;TZID=America/New_York:20260216T190000
DTSTAMP:20260419T184237
CREATED:20260109T164328Z
LAST-MODIFIED:20260109T164328Z
UID:3151-1771264800-1771268400@www.getessentialhealing.com
SUMMARY:Women's February New Moon Circle and Sound Bath
DESCRIPTION:On the New Moon we rest. Without the light of the moon in the sky we are reminded to sit quietly with ourselves to listen to our unique intuition. From that we set an intention for how we act & the choices we make for the two weeks leading up to the Full Moon. Together in the Tranquility Salt Cave we will meet on the night of the New Moon for a practice led by Colleen Gallick incorporating guided meditation & an energy-aligning Hz Healing sound bath. With a couple added rituals you will have an understanding of what you need & what you need to do to live with intention.\nPlease bring clean white socks.
URL:https://www.getessentialhealing.com/event/womens-february-new-moon-circle-and-sound-bath/
LOCATION:Tranquility Salt Cave\, 30 Dillmont Drive\, Columbus\, OH\, 43235\, United States
ATTACH;FMTTYPE=image/jpeg:https://www.getessentialhealing.com/wp-content/uploads/2025/02/382455281_10168038618665612_6624324643365440645_n.jpg
END:VEVENT
BEGIN:VEVENT
DTSTART;TZID=America/New_York:20260222T110000
DTEND;TZID=America/New_York:20260222T120000
DTSTAMP:20260419T184237
CREATED:20260109T164445Z
LAST-MODIFIED:20260128T172617Z
UID:3153-1771758000-1771761600@www.getessentialhealing.com
SUMMARY:2/22 Hz Healing Sound Bath & Meditation
DESCRIPTION:Wether or not balancing our lives feels easy there is a duality we can appreciate when we enjoy a busy\, eventful life and when we take time for ourselves to relax. This practice led by Colleen Gallick will be our way to appreciate duality in sound & silence\, focus & rest\, doing & being. In the Tranquility Salt Cave during a halotherapy session we will relax in zero gravity chairs while the cave is filled with the frequencies of singing bowls and other instruments. Along with this Hz Healing sound we will begin and end in silent meditation to invite in your unique intention of how you can move into the rest of your year without too much of one thing- balancing at its best.
URL:https://www.getessentialhealing.com/event/2-22-hz-healing-sound-bath-meditation/
LOCATION:Tranquility Salt Cave\, 30 Dillmont Drive\, Columbus\, OH\, 43235\, United States
ATTACH;FMTTYPE=image/jpeg:https://www.getessentialhealing.com/wp-content/uploads/2024/10/462904165_1200335441155634_3096624087352770420_n.jpg
END:VEVENT
END:VCALENDAR