BEGIN:VCALENDAR
VERSION:2.0
PRODID:-// - ECPv6.15.20//NONSGML v1.0//EN
CALSCALE:GREGORIAN
METHOD:PUBLISH
X-ORIGINAL-URL:https://www.getessentialhealing.com
X-WR-CALDESC:Events for 
REFRESH-INTERVAL;VALUE=DURATION:PT1H
X-Robots-Tag:noindex
X-PUBLISHED-TTL:PT1H
BEGIN:VTIMEZONE
TZID:America/New_York
BEGIN:DAYLIGHT
TZOFFSETFROM:-0500
TZOFFSETTO:-0400
TZNAME:EDT
DTSTART:20200308T070000
END:DAYLIGHT
BEGIN:STANDARD
TZOFFSETFROM:-0400
TZOFFSETTO:-0500
TZNAME:EST
DTSTART:20201101T060000
END:STANDARD
BEGIN:DAYLIGHT
TZOFFSETFROM:-0500
TZOFFSETTO:-0400
TZNAME:EDT
DTSTART:20210314T070000
END:DAYLIGHT
BEGIN:STANDARD
TZOFFSETFROM:-0400
TZOFFSETTO:-0500
TZNAME:EST
DTSTART:20211107T060000
END:STANDARD
BEGIN:DAYLIGHT
TZOFFSETFROM:-0500
TZOFFSETTO:-0400
TZNAME:EDT
DTSTART:20220313T070000
END:DAYLIGHT
BEGIN:STANDARD
TZOFFSETFROM:-0400
TZOFFSETTO:-0500
TZNAME:EST
DTSTART:20221106T060000
END:STANDARD
END:VTIMEZONE
BEGIN:VEVENT
DTSTART;TZID=America/New_York:20210424T180000
DTEND;TZID=America/New_York:20210424T190000
DTSTAMP:20260421T004053
CREATED:20210420T182633Z
LAST-MODIFIED:20210420T182856Z
UID:2110-1619287200-1619290800@www.getessentialhealing.com
SUMMARY:Hz Healing Meditation in the Salt cave
DESCRIPTION:This practice of guided meditation & sound meditation will help you settle into your body\, breath and mind by gentle bringing you out of consciousness into the expansive subconscious. Colleen Gallick will lead us through an active practice of meditating with breath and intention that will then lead us into a passive practice of listening. We will end with a long final resting pose with an energy-aligning singing bowls song. \n**only 6 spots open (safe distancing)!** \nSign Up!
URL:https://www.getessentialhealing.com/event/hz-healing-meditation-in-the-salt-cave-2/
LOCATION:Tranquility Salt Cave\, 30 Dillmont Drive\, Columbus\, OH\, 43235\, United States
ATTACH;FMTTYPE=image/jpeg:https://www.getessentialhealing.com/wp-content/uploads/2021/02/144406918_10164690886630612_2085299590140718374_o.jpg
END:VEVENT
BEGIN:VEVENT
DTSTART;TZID=America/New_York:20210424T170000
DTEND;TZID=America/New_York:20210424T180000
DTSTAMP:20260421T004053
CREATED:20210418T154404Z
LAST-MODIFIED:20210420T182952Z
UID:2093-1619283600-1619287200@www.getessentialhealing.com
SUMMARY:Hz Healing Meditation in the Salt Cave
DESCRIPTION:This practice of guided meditation & sound meditation will help you settle into your body\, breath and mind by gentle bringing you out of consciousness into the expansive subconscious. Colleen Gallick will lead us through an active practice of meditating with breath and intention that will then lead us into a passive practice of listening. We will end with a long final resting pose with an energy-aligning singing bowls song. \n**only 6 spots open (safe distancing)!** \nSign Up!
URL:https://www.getessentialhealing.com/event/hz-healing-meditation-in-the-salt-cave/
LOCATION:Tranquility Salt Cave\, 30 Dillmont Drive\, Columbus\, OH\, 43235\, United States
ATTACH;FMTTYPE=image/jpeg:https://www.getessentialhealing.com/wp-content/uploads/2021/02/144406918_10164690886630612_2085299590140718374_o.jpg
END:VEVENT
END:VCALENDAR