BEGIN:VCALENDAR
VERSION:2.0
PRODID:-// - ECPv6.15.20//NONSGML v1.0//EN
CALSCALE:GREGORIAN
METHOD:PUBLISH
X-ORIGINAL-URL:https://www.getessentialhealing.com
X-WR-CALDESC:Events for 
REFRESH-INTERVAL;VALUE=DURATION:PT1H
X-Robots-Tag:noindex
X-PUBLISHED-TTL:PT1H
BEGIN:VTIMEZONE
TZID:America/New_York
BEGIN:DAYLIGHT
TZOFFSETFROM:-0500
TZOFFSETTO:-0400
TZNAME:EDT
DTSTART:20200308T070000
END:DAYLIGHT
BEGIN:STANDARD
TZOFFSETFROM:-0400
TZOFFSETTO:-0500
TZNAME:EST
DTSTART:20201101T060000
END:STANDARD
BEGIN:DAYLIGHT
TZOFFSETFROM:-0500
TZOFFSETTO:-0400
TZNAME:EDT
DTSTART:20210314T070000
END:DAYLIGHT
BEGIN:STANDARD
TZOFFSETFROM:-0400
TZOFFSETTO:-0500
TZNAME:EST
DTSTART:20211107T060000
END:STANDARD
BEGIN:DAYLIGHT
TZOFFSETFROM:-0500
TZOFFSETTO:-0400
TZNAME:EDT
DTSTART:20220313T070000
END:DAYLIGHT
BEGIN:STANDARD
TZOFFSETFROM:-0400
TZOFFSETTO:-0500
TZNAME:EST
DTSTART:20221106T060000
END:STANDARD
END:VTIMEZONE
BEGIN:VEVENT
DTSTART;TZID=America/New_York:20210512T180000
DTEND;TZID=America/New_York:20210512T193000
DTSTAMP:20260420T185223
CREATED:20210429T182551Z
LAST-MODIFIED:20210429T182551Z
UID:2132-1620842400-1620847800@www.getessentialhealing.com
SUMMARY:May Moon Circle Series
DESCRIPTION:We are all a part of nature just as much as the earth & the oceans and the moon has an affect on it all. This 4 week series will be a way to explore how to align your self and your intentions with the energies of the moon phases. Each week will start with a short yoga practice with a guided meditation and will end with an activity or moon-ritual.\nLocation: Tranquility Yoga Space\, Lewis Center OH\nWednesdays in May (May 5th\, 12th\, 19th\, 26th)\n6pm-730pm\n$70 for all 4 weeks of the series\nor $20 drop-in
URL:https://www.getessentialhealing.com/event/may-moon-circle-series-2/
LOCATION:OH
ATTACH;FMTTYPE=image/jpeg:https://www.getessentialhealing.com/wp-content/uploads/2020/06/26756443_10159785426585612_7848313592245792913_o.jpg
END:VEVENT
BEGIN:VEVENT
DTSTART;TZID=America/New_York:20210510T180000
DTEND;TZID=America/New_York:20210510T190000
DTSTAMP:20260420T185223
CREATED:20210429T181634Z
LAST-MODIFIED:20210429T181634Z
UID:2124-1620669600-1620673200@www.getessentialhealing.com
SUMMARY:New Moon Meditation in the Salt Cave
DESCRIPTION:On the New Moon we will meet in the Tranquility Salt Cave & Colleen Gallick will lead an hour of yoga nidra guided meditation. This form of “yogic sleep” is meant to relax your consciousness and allow your mind to hover between being awake & asleep. 1 hour of yoga nidra is said to equal 4 hours of deep rest & by the end you will feel renewed & ready for anything. Our meditation will incorporate the self-centering energy of the new moon to bring attention to yourself & set an intention based on what you need.\n*only 6 spots open*
URL:https://www.getessentialhealing.com/event/new-moon-meditation-in-the-salt-cave/
LOCATION:Tranquility Salt Cave\, 30 Dillmont Drive\, Columbus\, OH\, 43235\, United States
ATTACH;FMTTYPE=image/jpeg:https://www.getessentialhealing.com/wp-content/uploads/2020/10/74662503_10162419066520612_1603761915270529024_o.jpg
END:VEVENT
BEGIN:VEVENT
DTSTART;TZID=America/New_York:20210505T180000
DTEND;TZID=America/New_York:20210505T180000
DTSTAMP:20260420T185223
CREATED:20210429T182256Z
LAST-MODIFIED:20210429T182439Z
UID:2130-1620237600-1620237600@www.getessentialhealing.com
SUMMARY:May Moon Circle Series
DESCRIPTION:We are all a part of nature just as much as the earth & the oceans and the moon has an affect on it all. This 4 week series will be a way to explore how to align your self and your intentions with the energies of the moon phases. Each week will start with a short yoga practice with a guided meditation and will end with an activity or moon-ritual.\nLocation: Tranquility Yoga Space\, Lewis Center OH\nWednesdays in May (May 5th\, 12th\, 19th\, 26th)\n6pm-730pm\n$70 for all 4 weeks of the series\nor $20 drop-in
URL:https://www.getessentialhealing.com/event/may-moon-circle-series/
LOCATION:OH
ATTACH;FMTTYPE=image/jpeg:https://www.getessentialhealing.com/wp-content/uploads/2020/06/26756443_10159785426585612_7848313592245792913_o.jpg
END:VEVENT
BEGIN:VEVENT
DTSTART;TZID=America/New_York:20210501T170000
DTEND;TZID=America/New_York:20210501T180000
DTSTAMP:20260420T185223
CREATED:20210429T181441Z
LAST-MODIFIED:20210429T181441Z
UID:2122-1619888400-1619892000@www.getessentialhealing.com
SUMMARY:Binaural Beats Meditation in the Salt Cave
DESCRIPTION:Binaural Beats are specific frequencies that when listened to through both ears in headphones can help put your brain at ease & calm anxiety. In the Tranquility Salt Cave we will meet & relax & begin with a guided meditation led by Colleen Gallick. Afterward you will get a set of headphones to listen to binaural beats containing alpha\, beta & theta waves to gently guide your mind into a deeper meditation.\nYou will leave feeling refreshed\, calm\, and with a mood-boost to carry with you through your weekend!\n*Only 6 spots open!*
URL:https://www.getessentialhealing.com/event/binaural-beats-meditation-in-the-salt-cave/
LOCATION:Tranquility Salt Cave\, 30 Dillmont Drive\, Columbus\, OH\, 43235\, United States
ATTACH;FMTTYPE=image/jpeg:https://www.getessentialhealing.com/wp-content/uploads/2021/03/IMG_20210313_172110-scaled.jpg
END:VEVENT
BEGIN:VEVENT
DTSTART;TZID=America/New_York:20210425T180000
DTEND;TZID=America/New_York:20210425T203000
DTSTAMP:20260420T185223
CREATED:20210418T155751Z
LAST-MODIFIED:20210420T182820Z
UID:2099-1619373600-1619382600@www.getessentialhealing.com
SUMMARY:Full Moon yoga & sound bath
DESCRIPTION:On the Full Moon we celebrate. We enjoy all that’s come from our efforts & choices and we appreciate where we are and what we have. This is the day of manifestation where we receive all we ask for so that we can live the best life we want. This moon circle will be a practice of movement\, breath\, and an energy-awakening Hz Healing sound bath led by Colleen Gallick all under the mesmerizing Geode Dome in Chillicothe. \nSpots are limited to stay socially-distant. \nSign Up!
URL:https://www.getessentialhealing.com/event/full-moon-yoga-sound-bath/
LOCATION:The Geode Dome\, 2467 Rocky Road\, Chillicothe\, OH\, 43601\, United States
ATTACH;FMTTYPE=image/jpeg:https://www.getessentialhealing.com/wp-content/uploads/2020/11/123511535_10164249739850612_1008056316198304071_n.jpg
END:VEVENT
BEGIN:VEVENT
DTSTART;TZID=America/New_York:20210424T180000
DTEND;TZID=America/New_York:20210424T190000
DTSTAMP:20260420T185223
CREATED:20210420T182633Z
LAST-MODIFIED:20210420T182856Z
UID:2110-1619287200-1619290800@www.getessentialhealing.com
SUMMARY:Hz Healing Meditation in the Salt cave
DESCRIPTION:This practice of guided meditation & sound meditation will help you settle into your body\, breath and mind by gentle bringing you out of consciousness into the expansive subconscious. Colleen Gallick will lead us through an active practice of meditating with breath and intention that will then lead us into a passive practice of listening. We will end with a long final resting pose with an energy-aligning singing bowls song. \n**only 6 spots open (safe distancing)!** \nSign Up!
URL:https://www.getessentialhealing.com/event/hz-healing-meditation-in-the-salt-cave-2/
LOCATION:Tranquility Salt Cave\, 30 Dillmont Drive\, Columbus\, OH\, 43235\, United States
ATTACH;FMTTYPE=image/jpeg:https://www.getessentialhealing.com/wp-content/uploads/2021/02/144406918_10164690886630612_2085299590140718374_o.jpg
END:VEVENT
BEGIN:VEVENT
DTSTART;TZID=America/New_York:20210424T170000
DTEND;TZID=America/New_York:20210424T180000
DTSTAMP:20260420T185223
CREATED:20210418T154404Z
LAST-MODIFIED:20210420T182952Z
UID:2093-1619283600-1619287200@www.getessentialhealing.com
SUMMARY:Hz Healing Meditation in the Salt Cave
DESCRIPTION:This practice of guided meditation & sound meditation will help you settle into your body\, breath and mind by gentle bringing you out of consciousness into the expansive subconscious. Colleen Gallick will lead us through an active practice of meditating with breath and intention that will then lead us into a passive practice of listening. We will end with a long final resting pose with an energy-aligning singing bowls song. \n**only 6 spots open (safe distancing)!** \nSign Up!
URL:https://www.getessentialhealing.com/event/hz-healing-meditation-in-the-salt-cave/
LOCATION:Tranquility Salt Cave\, 30 Dillmont Drive\, Columbus\, OH\, 43235\, United States
ATTACH;FMTTYPE=image/jpeg:https://www.getessentialhealing.com/wp-content/uploads/2021/02/144406918_10164690886630612_2085299590140718374_o.jpg
END:VEVENT
END:VCALENDAR