BEGIN:VCALENDAR
VERSION:2.0
PRODID:-// - ECPv6.15.20//NONSGML v1.0//EN
CALSCALE:GREGORIAN
METHOD:PUBLISH
X-ORIGINAL-URL:https://www.getessentialhealing.com
X-WR-CALDESC:Events for 
REFRESH-INTERVAL;VALUE=DURATION:PT1H
X-Robots-Tag:noindex
X-PUBLISHED-TTL:PT1H
BEGIN:VTIMEZONE
TZID:America/New_York
BEGIN:DAYLIGHT
TZOFFSETFROM:-0500
TZOFFSETTO:-0400
TZNAME:EDT
DTSTART:20240310T070000
END:DAYLIGHT
BEGIN:STANDARD
TZOFFSETFROM:-0400
TZOFFSETTO:-0500
TZNAME:EST
DTSTART:20241103T060000
END:STANDARD
BEGIN:DAYLIGHT
TZOFFSETFROM:-0500
TZOFFSETTO:-0400
TZNAME:EDT
DTSTART:20250309T070000
END:DAYLIGHT
BEGIN:STANDARD
TZOFFSETFROM:-0400
TZOFFSETTO:-0500
TZNAME:EST
DTSTART:20251102T060000
END:STANDARD
BEGIN:DAYLIGHT
TZOFFSETFROM:-0500
TZOFFSETTO:-0400
TZNAME:EDT
DTSTART:20260308T070000
END:DAYLIGHT
BEGIN:STANDARD
TZOFFSETFROM:-0400
TZOFFSETTO:-0500
TZNAME:EST
DTSTART:20261101T060000
END:STANDARD
END:VTIMEZONE
BEGIN:VEVENT
DTSTART;TZID=America/New_York:20251221T140000
DTEND;TZID=America/New_York:20251221T150000
DTSTAMP:20260420T063805
CREATED:20221212T195239Z
LAST-MODIFIED:20251104T173247Z
UID:2774-1766325600-1766329200@www.getessentialhealing.com
SUMMARY:Winter Solstice Sound Bath in the Tranquility Salt Cave
DESCRIPTION:During the winter season we are experiencing the longest and darkest nights of the year and the shortest days. The dark triumphs over the light\, but this signifies a turning point & a sacred time of rest and reflection before the slow build toward brighter days. The winter season asks us to go within so that new inspirations can emerge. As we consciously link our awareness to nature’s cycles\, our understanding of our own personal growth cycles begin to deepen. To offer ourselves this time to change for the better we will meet in the Tranquility Salt Cave for a practice of meditation & stillness while passively listening to the Hz Healing of crystal singing bowls that will leave you connected\, rested & ready for any change of the new season! \nPlease bring clean white socks.
URL:https://www.getessentialhealing.com/event/winter-solstice-sound-bath-in-the-tranquility-salt-cave/
LOCATION:Tranquility Salt Cave\, 30 Dillmont Drive\, Columbus\, OH\, 43235\, United States
ATTACH;FMTTYPE=image/jpeg:https://www.getessentialhealing.com/wp-content/uploads/2021/02/144406918_10164690886630612_2085299590140718374_o.jpg
END:VEVENT
END:VCALENDAR