BEGIN:VCALENDAR
VERSION:2.0
PRODID:-// - ECPv6.15.20//NONSGML v1.0//EN
CALSCALE:GREGORIAN
METHOD:PUBLISH
X-ORIGINAL-URL:https://www.getessentialhealing.com
X-WR-CALDESC:Events for 
REFRESH-INTERVAL;VALUE=DURATION:PT1H
X-Robots-Tag:noindex
X-PUBLISHED-TTL:PT1H
BEGIN:VTIMEZONE
TZID:America/New_York
BEGIN:DAYLIGHT
TZOFFSETFROM:-0500
TZOFFSETTO:-0400
TZNAME:EDT
DTSTART:20240310T070000
END:DAYLIGHT
BEGIN:STANDARD
TZOFFSETFROM:-0400
TZOFFSETTO:-0500
TZNAME:EST
DTSTART:20241103T060000
END:STANDARD
BEGIN:DAYLIGHT
TZOFFSETFROM:-0500
TZOFFSETTO:-0400
TZNAME:EDT
DTSTART:20250309T070000
END:DAYLIGHT
BEGIN:STANDARD
TZOFFSETFROM:-0400
TZOFFSETTO:-0500
TZNAME:EST
DTSTART:20251102T060000
END:STANDARD
BEGIN:DAYLIGHT
TZOFFSETFROM:-0500
TZOFFSETTO:-0400
TZNAME:EDT
DTSTART:20260308T070000
END:DAYLIGHT
BEGIN:STANDARD
TZOFFSETFROM:-0400
TZOFFSETTO:-0500
TZNAME:EST
DTSTART:20261101T060000
END:STANDARD
END:VTIMEZONE
BEGIN:VEVENT
DTSTART;TZID=America/New_York:20251208T180000
DTEND;TZID=America/New_York:20251208T190000
DTSTAMP:20260420T022134
CREATED:20220331T192357Z
LAST-MODIFIED:20251104T173141Z
UID:2608-1765216800-1765220400@www.getessentialhealing.com
SUMMARY:Restorative Yoga & Sound Bath in the Salt Cave
DESCRIPTION:Just like everything in nature\, our bodies have energies & as we move through the stresses of life that energy can change. In the Tranquility Salt Cave\, we will use different sound vibrations to realign our energy. The seven crystal singing bowls vibrate at the different frequencies of the musical scale which also correspond to our chakras (the body’s energy centers.) Colleen Gallick will lead you through a restorative practice to balance our chakras one pose at a time while adding in a layer of vibration in each pose. We will end in a resting pose and enjoy a sound bath of tones played in a song for full-body alignment and ease.
URL:https://www.getessentialhealing.com/event/restorative-yoga-sound-bath-in-the-salt-cave-2/
LOCATION:Tranquility Salt Cave\, 30 Dillmont Drive\, Columbus\, OH\, 43235\, United States
ATTACH;FMTTYPE=image/jpeg:https://www.getessentialhealing.com/wp-content/uploads/2020/09/82162804_10162701305390612_2722190430149017600_o.jpg
END:VEVENT
END:VCALENDAR