BEGIN:VCALENDAR
VERSION:2.0
PRODID:-// - ECPv6.15.20//NONSGML v1.0//EN
CALSCALE:GREGORIAN
METHOD:PUBLISH
X-ORIGINAL-URL:https://www.getessentialhealing.com
X-WR-CALDESC:Events for 
REFRESH-INTERVAL;VALUE=DURATION:PT1H
X-Robots-Tag:noindex
X-PUBLISHED-TTL:PT1H
BEGIN:VTIMEZONE
TZID:America/New_York
BEGIN:DAYLIGHT
TZOFFSETFROM:-0500
TZOFFSETTO:-0400
TZNAME:EDT
DTSTART:20240310T070000
END:DAYLIGHT
BEGIN:STANDARD
TZOFFSETFROM:-0400
TZOFFSETTO:-0500
TZNAME:EST
DTSTART:20241103T060000
END:STANDARD
BEGIN:DAYLIGHT
TZOFFSETFROM:-0500
TZOFFSETTO:-0400
TZNAME:EDT
DTSTART:20250309T070000
END:DAYLIGHT
BEGIN:STANDARD
TZOFFSETFROM:-0400
TZOFFSETTO:-0500
TZNAME:EST
DTSTART:20251102T060000
END:STANDARD
BEGIN:DAYLIGHT
TZOFFSETFROM:-0500
TZOFFSETTO:-0400
TZNAME:EDT
DTSTART:20260308T070000
END:DAYLIGHT
BEGIN:STANDARD
TZOFFSETFROM:-0400
TZOFFSETTO:-0500
TZNAME:EST
DTSTART:20261101T060000
END:STANDARD
END:VTIMEZONE
BEGIN:VEVENT
DTSTART;TZID=America/New_York:20251204T180000
DTEND;TZID=America/New_York:20251204T190000
DTSTAMP:20260419T232759
CREATED:20230429T192621Z
LAST-MODIFIED:20251104T172824Z
UID:2855-1764871200-1764874800@www.getessentialhealing.com
SUMMARY:December Women's Full Moon Circle & Sound Bath
DESCRIPTION:On the Full Moon we celebrate. We enjoy all that’s come from our efforts & choices and we appreciate where we are and what we have. This is the day of manifestation where we receive all we ask for so that we can live the best life we want. During this guided meditation & Hz Healing sound bath with Colleen Gallick we will take time to appreciate all that we have worked for this month & ask for anything else we need to feel full. After an hour in the cave together we will leave rested\, content & ready for what’s next!
URL:https://www.getessentialhealing.com/event/full-moon-hz-healing-sound-bath-3/
LOCATION:Tranquility Salt Cave\, 30 Dillmont Drive\, Columbus\, OH\, 43235\, United States
ATTACH;FMTTYPE=image/jpeg:https://www.getessentialhealing.com/wp-content/uploads/2022/10/296041294_10166456965570612_5974446875209465093_n.jpg
END:VEVENT
END:VCALENDAR