BEGIN:VCALENDAR
VERSION:2.0
PRODID:-// - ECPv6.15.20//NONSGML v1.0//EN
CALSCALE:GREGORIAN
METHOD:PUBLISH
X-ORIGINAL-URL:https://www.getessentialhealing.com
X-WR-CALDESC:Events for 
REFRESH-INTERVAL;VALUE=DURATION:PT1H
X-Robots-Tag:noindex
X-PUBLISHED-TTL:PT1H
BEGIN:VTIMEZONE
TZID:America/New_York
BEGIN:DAYLIGHT
TZOFFSETFROM:-0500
TZOFFSETTO:-0400
TZNAME:EDT
DTSTART:20240310T070000
END:DAYLIGHT
BEGIN:STANDARD
TZOFFSETFROM:-0400
TZOFFSETTO:-0500
TZNAME:EST
DTSTART:20241103T060000
END:STANDARD
BEGIN:DAYLIGHT
TZOFFSETFROM:-0500
TZOFFSETTO:-0400
TZNAME:EDT
DTSTART:20250309T070000
END:DAYLIGHT
BEGIN:STANDARD
TZOFFSETFROM:-0400
TZOFFSETTO:-0500
TZNAME:EST
DTSTART:20251102T060000
END:STANDARD
BEGIN:DAYLIGHT
TZOFFSETFROM:-0500
TZOFFSETTO:-0400
TZNAME:EDT
DTSTART:20260308T070000
END:DAYLIGHT
BEGIN:STANDARD
TZOFFSETFROM:-0400
TZOFFSETTO:-0500
TZNAME:EST
DTSTART:20261101T060000
END:STANDARD
END:VTIMEZONE
BEGIN:VEVENT
DTSTART;TZID=America/New_York:20250829T190000
DTEND;TZID=America/New_York:20250829T200000
DTSTAMP:20260419T183404
CREATED:20240105T154842Z
LAST-MODIFIED:20250731T153519Z
UID:2916-1756494000-1756497600@www.getessentialhealing.com
SUMMARY:Yoga Nidra Meditation in the Tranquility Salt Cave
DESCRIPTION:Yoga nidra is a meditative form of yogic sleep where we lie down completely relaxed and allow a withdraw of our senses. This brings the mind out of consciousness but not quite into sleep\, it will feel like a deep meditation. The practice of yoga nidra led by Colleen Gallick includes a full-body scan and guided meditation to encourage all systems of the body to slow down. In the salt cave we will lie in zero gravity chairs\, sit surrounded by salt and breathe while salt is diffused into the air helping to open airways and relax your body from the inside out.
URL:https://www.getessentialhealing.com/event/yoga-nidra-meditation-in-the-tranquility-salt-cave-6/
LOCATION:Tranquility Salt Cave\, 30 Dillmont Drive\, Columbus\, OH\, 43235\, United States
ATTACH;FMTTYPE=image/jpeg:https://www.getessentialhealing.com/wp-content/uploads/2022/09/280451491_10166230677030612_2585146666824272768_n.jpg
END:VEVENT
END:VCALENDAR