BEGIN:VCALENDAR
VERSION:2.0
PRODID:-// - ECPv6.15.20//NONSGML v1.0//EN
CALSCALE:GREGORIAN
METHOD:PUBLISH
X-ORIGINAL-URL:https://www.getessentialhealing.com
X-WR-CALDESC:Events for 
REFRESH-INTERVAL;VALUE=DURATION:PT1H
X-Robots-Tag:noindex
X-PUBLISHED-TTL:PT1H
BEGIN:VTIMEZONE
TZID:America/New_York
BEGIN:DAYLIGHT
TZOFFSETFROM:-0500
TZOFFSETTO:-0400
TZNAME:EDT
DTSTART:20240310T070000
END:DAYLIGHT
BEGIN:STANDARD
TZOFFSETFROM:-0400
TZOFFSETTO:-0500
TZNAME:EST
DTSTART:20241103T060000
END:STANDARD
BEGIN:DAYLIGHT
TZOFFSETFROM:-0500
TZOFFSETTO:-0400
TZNAME:EDT
DTSTART:20250309T070000
END:DAYLIGHT
BEGIN:STANDARD
TZOFFSETFROM:-0400
TZOFFSETTO:-0500
TZNAME:EST
DTSTART:20251102T060000
END:STANDARD
BEGIN:DAYLIGHT
TZOFFSETFROM:-0500
TZOFFSETTO:-0400
TZNAME:EDT
DTSTART:20260308T070000
END:DAYLIGHT
BEGIN:STANDARD
TZOFFSETFROM:-0400
TZOFFSETTO:-0500
TZNAME:EST
DTSTART:20261101T060000
END:STANDARD
END:VTIMEZONE
BEGIN:VEVENT
DTSTART;TZID=America/New_York:20250719T183000
DTEND;TZID=America/New_York:20250719T203000
DTSTAMP:20260419T134640
CREATED:20220519T113040Z
LAST-MODIFIED:20250610T145932Z
UID:2655-1752949800-1752957000@www.getessentialhealing.com
SUMMARY:Sunset Sound Bath Meditation at Hummingbird Hill Flower Farm
DESCRIPTION:This practice of guided meditation & sound meditation led by Colleen Gallick will help you settle into your body\, breath and mind by gently bringing you into the expansive subconscious. The frequencies of the seven singing bowls will be layered onto our active practice of meditating with intention which will then lead us into a passive practice of listening and resting. We will end with a long final resting pose with an energy-aligning singing bowls song surrounded by nature. As a special take home gift\, you’ll receive a mini-bouquet from the farm.
URL:https://www.getessentialhealing.com/event/sunset-sound-bath-meditation-at-hummingbird-hill-flower-farm/
LOCATION:Hummingbird Hill Flower Farm\, 10055 S Funk Rd\, Shreve\, oh\, 44676
ATTACH;FMTTYPE=image/jpeg:https://www.getessentialhealing.com/wp-content/uploads/2021/07/198463392_10165271481825612_7595907832368423132_n.jpeg
END:VEVENT
END:VCALENDAR