BEGIN:VCALENDAR
VERSION:2.0
PRODID:-// - ECPv6.15.20//NONSGML v1.0//EN
CALSCALE:GREGORIAN
METHOD:PUBLISH
X-ORIGINAL-URL:https://www.getessentialhealing.com
X-WR-CALDESC:Events for 
REFRESH-INTERVAL;VALUE=DURATION:PT1H
X-Robots-Tag:noindex
X-PUBLISHED-TTL:PT1H
BEGIN:VTIMEZONE
TZID:America/New_York
BEGIN:DAYLIGHT
TZOFFSETFROM:-0500
TZOFFSETTO:-0400
TZNAME:EDT
DTSTART:20240310T070000
END:DAYLIGHT
BEGIN:STANDARD
TZOFFSETFROM:-0400
TZOFFSETTO:-0500
TZNAME:EST
DTSTART:20241103T060000
END:STANDARD
BEGIN:DAYLIGHT
TZOFFSETFROM:-0500
TZOFFSETTO:-0400
TZNAME:EDT
DTSTART:20250309T070000
END:DAYLIGHT
BEGIN:STANDARD
TZOFFSETFROM:-0400
TZOFFSETTO:-0500
TZNAME:EST
DTSTART:20251102T060000
END:STANDARD
BEGIN:DAYLIGHT
TZOFFSETFROM:-0500
TZOFFSETTO:-0400
TZNAME:EDT
DTSTART:20260308T070000
END:DAYLIGHT
BEGIN:STANDARD
TZOFFSETFROM:-0400
TZOFFSETTO:-0500
TZNAME:EST
DTSTART:20261101T060000
END:STANDARD
END:VTIMEZONE
BEGIN:VEVENT
DTSTART;TZID=America/New_York:20250621T130000
DTEND;TZID=America/New_York:20250621T140000
DTSTAMP:20260419T105623
CREATED:20250610T145819Z
LAST-MODIFIED:20250610T145819Z
UID:3113-1750510800-1750514400@www.getessentialhealing.com
SUMMARY:Summer Solstice Sound Bath
DESCRIPTION:Celebrate the light of the season with an afternoon of deep rest and soulful renewal.  \nJoin us for a special Summer Solstice Sound Bath led by Colleen\, where the soothing vibrations of crystal bowls will carry you into a peaceful\, meditative state. As we honor the longest day of the year\, this gathering offers a powerful pause—a chance to reflect\, reset\, and align with the energy of the season. \nSink into stillness\, release what no longer serves you\, and set meaningful intentions for the bright months ahead. \nPlease bring any props (blankets\, bolster\, eye pillow) that will help you feel cozy and supported while lying down. \nAll are welcome. Let this be your moment of calm in the sun-soaked energy of summer. 🌻
URL:https://www.getessentialhealing.com/event/summer-solstice-sound-bath-3/
LOCATION:Rasa Yoga\, 287 W Johnstown Rd\, Gahanna\, Oh
ATTACH;FMTTYPE=image/jpeg:https://www.getessentialhealing.com/wp-content/uploads/2024/12/467401988_10169577192310612_2706673234673209793_n.jpg
END:VEVENT
BEGIN:VEVENT
DTSTART;TZID=America/New_York:20250621T160000
DTEND;TZID=America/New_York:20250621T170000
DTSTAMP:20260419T105623
CREATED:20220614T135913Z
LAST-MODIFIED:20250610T145148Z
UID:2679-1750521600-1750525200@www.getessentialhealing.com
SUMMARY:Summer Solstice Sound Bath
DESCRIPTION:To celebrate the longest day of the year & the season of abundance we are coming together to set intention & prepare for the Summer. As we consciously link our awareness to nature’s cycles\, our understanding of our own personal growth cycles begin to deepen. To offer ourselves this time to change for the better we will meet in the Tranquility Salt Cave for a practice led by Colleen Gallick of meditation & stillness while passively listening to the Hz Healing of crystal singing bowls that will leave you connected\, rested & ready for any change of the new season!\nPlease bring clean white socks.
URL:https://www.getessentialhealing.com/event/summer-solstice-sound-bath-2/
LOCATION:Tranquility Salt Cave\, 30 Dillmont Drive\, Columbus\, OH\, 43235\, United States
ATTACH;FMTTYPE=image/jpeg:https://www.getessentialhealing.com/wp-content/uploads/2021/02/144406918_10164690886630612_2085299590140718374_o.jpg
END:VEVENT
END:VCALENDAR