BEGIN:VCALENDAR
VERSION:2.0
PRODID:-// - ECPv6.15.20//NONSGML v1.0//EN
CALSCALE:GREGORIAN
METHOD:PUBLISH
X-ORIGINAL-URL:https://www.getessentialhealing.com
X-WR-CALDESC:Events for 
REFRESH-INTERVAL;VALUE=DURATION:PT1H
X-Robots-Tag:noindex
X-PUBLISHED-TTL:PT1H
BEGIN:VTIMEZONE
TZID:America/New_York
BEGIN:DAYLIGHT
TZOFFSETFROM:-0500
TZOFFSETTO:-0400
TZNAME:EDT
DTSTART:20240310T070000
END:DAYLIGHT
BEGIN:STANDARD
TZOFFSETFROM:-0400
TZOFFSETTO:-0500
TZNAME:EST
DTSTART:20241103T060000
END:STANDARD
BEGIN:DAYLIGHT
TZOFFSETFROM:-0500
TZOFFSETTO:-0400
TZNAME:EDT
DTSTART:20250309T070000
END:DAYLIGHT
BEGIN:STANDARD
TZOFFSETFROM:-0400
TZOFFSETTO:-0500
TZNAME:EST
DTSTART:20251102T060000
END:STANDARD
BEGIN:DAYLIGHT
TZOFFSETFROM:-0500
TZOFFSETTO:-0400
TZNAME:EDT
DTSTART:20260308T070000
END:DAYLIGHT
BEGIN:STANDARD
TZOFFSETFROM:-0400
TZOFFSETTO:-0500
TZNAME:EST
DTSTART:20261101T060000
END:STANDARD
END:VTIMEZONE
BEGIN:VEVENT
DTSTART;TZID=America/New_York:20250620T190000
DTEND;TZID=America/New_York:20250620T200000
DTSTAMP:20260419T093634
CREATED:20250610T145703Z
LAST-MODIFIED:20250610T150016Z
UID:3111-1750446000-1750449600@www.getessentialhealing.com
SUMMARY:Summer Solstice Celebration
DESCRIPTION:Join us in honoring the longest day of the year with a deeply nourishing Summer Solstice Celebration. This special event invites you to slow down\, reflect\, and realign through a gentle blend of restorative yoga\, guided meditation\, and a healing sound bath. \nAs the sun reaches its peak\, we’ll create space to turn inward—releasing what no longer serves and welcoming the energy of renewal and growth. Expect soothing movement\, mindful stillness\, and the vibrational harmony of sound to leave you feeling grounded\, centered\, and uplifted.\n✨ All levels welcome. Bring a mat\, cozy layers\, and an open heart.
URL:https://www.getessentialhealing.com/event/summer-solstice-celebration/
LOCATION:Zen Yoga Clintonville\, 3242 n high st\, Columbus\, oh\, 43202
ATTACH;FMTTYPE=image/jpeg:https://www.getessentialhealing.com/wp-content/uploads/2022/12/318570270_5413149752146639_6866231480281564677_n.jpg
END:VEVENT
END:VCALENDAR