BEGIN:VCALENDAR
VERSION:2.0
PRODID:-// - ECPv6.15.20//NONSGML v1.0//EN
CALSCALE:GREGORIAN
METHOD:PUBLISH
X-ORIGINAL-URL:https://www.getessentialhealing.com
X-WR-CALDESC:Events for 
REFRESH-INTERVAL;VALUE=DURATION:PT1H
X-Robots-Tag:noindex
X-PUBLISHED-TTL:PT1H
BEGIN:VTIMEZONE
TZID:America/New_York
BEGIN:DAYLIGHT
TZOFFSETFROM:-0500
TZOFFSETTO:-0400
TZNAME:EDT
DTSTART:20240310T070000
END:DAYLIGHT
BEGIN:STANDARD
TZOFFSETFROM:-0400
TZOFFSETTO:-0500
TZNAME:EST
DTSTART:20241103T060000
END:STANDARD
BEGIN:DAYLIGHT
TZOFFSETFROM:-0500
TZOFFSETTO:-0400
TZNAME:EDT
DTSTART:20250309T070000
END:DAYLIGHT
BEGIN:STANDARD
TZOFFSETFROM:-0400
TZOFFSETTO:-0500
TZNAME:EST
DTSTART:20251102T060000
END:STANDARD
BEGIN:DAYLIGHT
TZOFFSETFROM:-0500
TZOFFSETTO:-0400
TZNAME:EDT
DTSTART:20260308T070000
END:DAYLIGHT
BEGIN:STANDARD
TZOFFSETFROM:-0400
TZOFFSETTO:-0500
TZNAME:EST
DTSTART:20261101T060000
END:STANDARD
END:VTIMEZONE
BEGIN:VEVENT
DTSTART;TZID=America/New_York:20250320T191500
DTEND;TZID=America/New_York:20250320T201500
DTSTAMP:20260419T125307
CREATED:20250303T135129Z
LAST-MODIFIED:20250303T135129Z
UID:3093-1742498100-1742501700@www.getessentialhealing.com
SUMMARY:Sound Bath on the Spring Equinox
DESCRIPTION:Celebrate the Spring Equinox with an evening of deep relaxation and renewal. Join us on Thursday\, March 20st\, at 7:15 PM for a Sound Bath to honor the turning of the seasons. \nLet the soothing sounds of crystal bowls guide you into a meditative state. As we embrace the longest night of the year\, this experience offers a moment of balance\, rest\, and reflection—an opportunity to set intentions for the season ahead. \nBring any props you would like to make yourself comfortable laying down. Lead by Colleen!
URL:https://www.getessentialhealing.com/event/sound-bath-on-the-spring-equinox/
LOCATION:Rasa Yoga\, 287 W Johnstown Rd\, Gahanna\, Oh
ATTACH;FMTTYPE=image/jpeg:https://www.getessentialhealing.com/wp-content/uploads/2024/12/467401988_10169577192310612_2706673234673209793_n.jpg
END:VEVENT
END:VCALENDAR